BEGIN:VCALENDAR
VERSION:2.0
BEGIN:VEVENT
URL:https://thetotehotel.oztix.com.au/outlet/event/c99caea3-dc13-4633-a3af-7c0db8a980ac
DTSTART:20260724T100000Z
DTEND:20260724T100000Z
SUMMARY:Jeane Presents Sicko (EP Launch)
DESCRIPTION:Event details: https://thetotehotel.oztix.com.au/outlet/event/c99caea3-dc13-4633-a3af-7c0db8a980ac
LOCATION:The Tote - Band Room (Collingwood, VIC)
END:VEVENT
END:VCALENDAR