BEGIN:VCALENDAR
VERSION:2.0
BEGIN:VEVENT
URL:https://thetotehotel.oztix.com.au/outlet/event/13bfa561-110f-4e27-8e2a-704c4575e264
DTSTART:20260718T060000Z
DTEND:20260718T060000Z
SUMMARY:Capital Noise presents: CARPFEST
DESCRIPTION:Event details: https://thetotehotel.oztix.com.au/outlet/event/13bfa561-110f-4e27-8e2a-704c4575e264
LOCATION:The Tote - Upstairs (Collingwood, VIC)
END:VEVENT
END:VCALENDAR